BEGIN:VCALENDAR
VERSION:2.0
PRODID:-//AudioTheme 1.7.1
BEGIN:VEVENT
UID:http://leabartha.com/?post_type=audiotheme_gig&#038;p=474
URL:https://leabartha.com/nastopi/mamma-mia-musical-valentinovo/
DTSTART;TZID=GMT:20160214T000000
SUMMARY:Mamma Mia Musical - Valentinovo
DESCRIPTION:Igralci/pevci: Alenka Godec\, Simona Vodopivec Franko\, Damjana Golavšek\, Uroš Smolej\, Gojmir Lešnjak – Gojc\, Marjan Bunič\, Lea Bartha\, Matjaž Kumelj
LOCATION:Športna dvorana OŠ Milojke Štrukelj
END:VEVENT
END:VCALENDAR